BEGIN:VCALENDAR
VERSION:2.0
PRODID:-//Leader Care Alabama - ECPv6.15.20//NONSGML v1.0//EN
CALSCALE:GREGORIAN
METHOD:PUBLISH
X-ORIGINAL-URL:https://leadercareal.org
X-WR-CALDESC:Events for Leader Care Alabama
REFRESH-INTERVAL;VALUE=DURATION:PT1H
X-Robots-Tag:noindex
X-PUBLISHED-TTL:PT1H
BEGIN:VTIMEZONE
TZID:America/Chicago
BEGIN:DAYLIGHT
TZOFFSETFROM:-0600
TZOFFSETTO:-0500
TZNAME:CDT
DTSTART:20220313T080000
END:DAYLIGHT
BEGIN:STANDARD
TZOFFSETFROM:-0500
TZOFFSETTO:-0600
TZNAME:CST
DTSTART:20221106T070000
END:STANDARD
BEGIN:DAYLIGHT
TZOFFSETFROM:-0600
TZOFFSETTO:-0500
TZNAME:CDT
DTSTART:20230312T080000
END:DAYLIGHT
BEGIN:STANDARD
TZOFFSETFROM:-0500
TZOFFSETTO:-0600
TZNAME:CST
DTSTART:20231105T070000
END:STANDARD
BEGIN:DAYLIGHT
TZOFFSETFROM:-0600
TZOFFSETTO:-0500
TZNAME:CDT
DTSTART:20240310T080000
END:DAYLIGHT
BEGIN:STANDARD
TZOFFSETFROM:-0500
TZOFFSETTO:-0600
TZNAME:CST
DTSTART:20241103T070000
END:STANDARD
END:VTIMEZONE
BEGIN:VEVENT
DTSTART;TZID=America/Chicago:20230224T160000
DTEND;TZID=America/Chicago:20230225T150000
DTSTAMP:20260420T152344
CREATED:20221101T132628Z
LAST-MODIFIED:20221101T132628Z
UID:10000002-1677254400-1677337200@leadercareal.org
SUMMARY:Bivocational Minister Spouse Retreat
DESCRIPTION:This is a two day\, overnight retreat at Shocco Springs. There are sessions for both ministers and spouses. The aim is to promote fellowship\, provide guidance and give encouragement and inspiration to all ministers and spouses in attendance. This event is sponsored by the Alabama Baptist Bivocational Ministers Association and the Alabama Baptist State Board of Missions.
URL:https://leadercareal.org/event/bivocational-minister-spouse-retreat/
LOCATION:Shocco Springs Baptist Conference Center\, 1314 Shocco Springs Road\, Talladega\, AL\, 35160\, United States
END:VEVENT
BEGIN:VEVENT
DTSTART;TZID=America/Chicago:20230117T090000
DTEND;TZID=America/Chicago:20230117T163000
DTSTAMP:20260420T152344
CREATED:20221101T132255Z
LAST-MODIFIED:20221108T234442Z
UID:10000001-1673946000-1673973000@leadercareal.org
SUMMARY:Intentional Leader Series - Person
DESCRIPTION:Goal: Comprehensive leadership development based on biblical principles and practical application. \nThe Intentional Leader Series will resource Pastors with the tools and information needed to flourish as a leader. Training events will be centered around the 4 P’s of Leadership: Person\, Pastor\, Preacher\, and Pathfinder.  \nThe Intentional Leader Series provides an ongoing process to be challenged as a leader. In July of 2022\, the office of LeaderCare kicked off Intentional Leader by giving an overview. You can view the initial kickoff by going to: https://vimeo.com/734363697. Each of the 4 P’s will have its own stand-alone conference. Below you will see the general idea of a Person\, Pastor\, Preacher\, and Pathfinder. \nPerson: Who you are is at the heart of what you do. As a pastor or church leader\, you are a Christian. Your first priority is relating to God well. Intentionally relating to God and others and growing in an emotionally healthy way is vital to overall leadership. Self-awareness is one of the keys to relating to others. Knowing who you are in Christ… \nPastor: Intentionally shepherding the sheep assigned to you. Relationship building is a major part of pastoring well. Your people will know if you genuinely care for them. \nPreacher: Preaching with intentionality\, with a goal as to where God wants to take His church. \nPathfinder: Strategically leading with intentionality. \n2023 Intentional Leader Series Event Schedule:\nPerson: January 17\, 2023\, with Ken Sande. Ken is a nationally recognized leader in the area of conflict and mediation. Real-life church conflict scenarios will be discussed. The Conference will be from 9 am to 4 pm at the State Board of Missions in Prattville. \nPathfinder: April 18\, 2023\, Ken Allen and Rob Jackson. Ken and Rob will share how to strategically lead your church into greater overall health. \nPastor and Preacher: July 25\, 2023\, with Ken Allen and Guest Speaker. Ken will share how to pastor individuals toward Christlikeness intentionally. \nThe cost of registration is $8.00 for each event. Lunch with be provided. \nRegister:\n\nFill out my online form.\n\n  Fill out my Wufoo form!
URL:https://leadercareal.org/event/intentional-leader-series-person/
LOCATION:State Board of Missions – Prattville\, 1404 Fairview Ave.\, Prattville\, AL\, 36066\, United States
CATEGORIES:Intentional Leader Series
END:VEVENT
END:VCALENDAR